Package: logicFS Version: 2.22.0 Command: /home/biocbuild/bbs-3.18-bioc/R/bin/R CMD build --keep-empty-dirs --no-resave-data logicFS StartedAt: 2024-04-15 17:44:01 -0400 (Mon, 15 Apr 2024) EndedAt: 2024-04-15 17:44:14 -0400 (Mon, 15 Apr 2024) EllapsedTime: 12.2 seconds RetCode: 0 Status: OK PackageFile: logicFS_2.22.0.tar.gz PackageFileSize: 150.4 KiB