Package: logicFS Version: 2.22.0 Command: /Library/Frameworks/R.framework/Resources/bin/R CMD check --install=check:logicFS.install-out.txt --library=/Library/Frameworks/R.framework/Resources/library --no-vignettes --timings logicFS_2.22.0.tar.gz StartedAt: 2024-04-16 04:39:55 -0400 (Tue, 16 Apr 2024) EndedAt: 2024-04-16 04:41:58 -0400 (Tue, 16 Apr 2024) EllapsedTime: 122.9 seconds RetCode: 0 Status: OK CheckDir: logicFS.Rcheck Warnings: 0