Package: loci2path Version: 1.22.0 Command: /Library/Frameworks/R.framework/Resources/bin/R CMD build --keep-empty-dirs --no-resave-data loci2path StartedAt: 2024-04-15 19:40:57 -0400 (Mon, 15 Apr 2024) EndedAt: 2024-04-15 19:41:42 -0400 (Mon, 15 Apr 2024) EllapsedTime: 44.4 seconds RetCode: 0 Status: OK PackageFile: loci2path_1.22.0.tar.gz PackageFileSize: 610.1 KiB