Package: loci2path Version: 1.22.0 Command: /Library/Frameworks/R.framework/Resources/bin/R CMD INSTALL loci2path StartedAt: 2024-03-03 15:13:42 -0500 (Sun, 03 Mar 2024) EndedAt: 2024-03-03 15:14:03 -0500 (Sun, 03 Mar 2024) EllapsedTime: 20.2 seconds RetCode: 0 Status: OK