Package: lmdme Version: 1.44.0 Command: /Library/Frameworks/R.framework/Resources/bin/R CMD build --keep-empty-dirs --no-resave-data lmdme StartedAt: 2024-03-03 17:12:49 -0500 (Sun, 03 Mar 2024) EndedAt: 2024-03-03 17:13:07 -0500 (Sun, 03 Mar 2024) EllapsedTime: 18.0 seconds RetCode: 0 Status: OK PackageFile: lmdme_1.44.0.tar.gz PackageFileSize: 608.7 KiB