Package: lisaClust Version: 1.10.1 Command: chmod a+r lisaClust -R && F:\biocbuild\bbs-3.18-bioc\R\bin\R.exe CMD build --keep-empty-dirs --no-resave-data lisaClust StartedAt: 2024-04-15 19:17:06 -0400 (Mon, 15 Apr 2024) EndedAt: 2024-04-15 19:18:38 -0400 (Mon, 15 Apr 2024) EllapsedTime: 92.3 seconds RetCode: 0 Status: OK PackageFile: lisaClust_1.10.1.tar.gz PackageFileSize: 733.8 KiB