Package: lisaClust Version: 1.10.1 Command: /home/biocbuild/bbs-3.18-bioc/R/bin/R CMD INSTALL lisaClust StartedAt: 2024-04-15 15:48:29 -0400 (Mon, 15 Apr 2024) EndedAt: 2024-04-15 15:49:02 -0400 (Mon, 15 Apr 2024) EllapsedTime: 33.0 seconds RetCode: 0 Status: OK