Package: lisaClust Version: 1.10.1 Command: /home/biocbuild/bbs-3.18-bioc/R/bin/R CMD check --install=check:lisaClust.install-out.txt --library=/home/biocbuild/bbs-3.18-bioc/R/site-library --timings lisaClust_1.10.1.tar.gz StartedAt: 2024-04-16 00:19:44 -0400 (Tue, 16 Apr 2024) EndedAt: 2024-04-16 00:24:54 -0400 (Tue, 16 Apr 2024) EllapsedTime: 310.4 seconds RetCode: 0 Status: OK CheckDir: lisaClust.Rcheck Warnings: 0