Package: lisaClust Version: 1.10.1 Command: /Library/Frameworks/R.framework/Resources/bin/R CMD INSTALL lisaClust StartedAt: 2024-04-15 16:36:33 -0400 (Mon, 15 Apr 2024) EndedAt: 2024-04-15 16:37:43 -0400 (Mon, 15 Apr 2024) EllapsedTime: 69.3 seconds RetCode: 0 Status: OK