Package: lisaClust Version: 1.10.1 Command: /Library/Frameworks/R.framework/Resources/bin/R CMD build --keep-empty-dirs --no-resave-data lisaClust StartedAt: 2024-04-15 19:40:51 -0400 (Mon, 15 Apr 2024) EndedAt: 2024-04-15 19:43:15 -0400 (Mon, 15 Apr 2024) EllapsedTime: 144.6 seconds RetCode: 0 Status: OK PackageFile: lisaClust_1.10.1.tar.gz PackageFileSize: 2.034 MiB