Package: lisaClust Version: 1.10.1 Command: /home/biocbuild/R/R-4.3.1/bin/R CMD build --keep-empty-dirs --no-resave-data lisaClust StartedAt: 2023-11-02 02:43:05 -0000 (Thu, 02 Nov 2023) EndedAt: 2023-11-02 02:44:50 -0000 (Thu, 02 Nov 2023) EllapsedTime: 105.2 seconds RetCode: 0 Status: OK PackageFile: lisaClust_1.10.1.tar.gz PackageFileSize: 1.894 MiB