Package: lipidr Version: 2.16.0 Command: rm -rf lipidr.buildbin-libdir && mkdir lipidr.buildbin-libdir && F:\biocbuild\bbs-3.18-bioc\R\bin\R.exe CMD INSTALL --build --library=lipidr.buildbin-libdir lipidr_2.16.0.tar.gz StartedAt: 2024-04-16 07:12:39 -0400 (Tue, 16 Apr 2024) EndedAt: 2024-04-16 07:13:28 -0400 (Tue, 16 Apr 2024) EllapsedTime: 49.7 seconds RetCode: 0 Status: OK PackageFile: lipidr_2.16.0.zip PackageFileSize: 2.562 MiB