Package: lipidr Version: 2.16.0 Maintainer: Ahmed Mohamed MaintainerEmail: mohamed at kuicr.kyoto-u.ac.jp git_url: https://git.bioconductor.org/packages/lipidr git_branch: RELEASE_3_18 git_last_commit: 247e39c git_last_commit_date: 2023-10-24 11:13:19 -0400 (Tue, 24 Oct 2023)