Package: lionessR Version: 1.16.0 Command: chmod a+r lionessR -R && F:\biocbuild\bbs-3.18-bioc\R\bin\R.exe CMD build --keep-empty-dirs --no-resave-data lionessR StartedAt: 2024-04-15 19:16:51 -0400 (Mon, 15 Apr 2024) EndedAt: 2024-04-15 19:17:14 -0400 (Mon, 15 Apr 2024) EllapsedTime: 23.4 seconds RetCode: 0 Status: OK PackageFile: lionessR_1.16.0.tar.gz PackageFileSize: 2.77 MiB