Package: lionessR Version: 1.16.0 Command: rm -rf lionessR.buildbin-libdir && mkdir lionessR.buildbin-libdir && F:\biocbuild\bbs-3.18-bioc\R\bin\R.exe CMD INSTALL --build --library=lionessR.buildbin-libdir lionessR_1.16.0.tar.gz StartedAt: 2024-04-16 07:12:37 -0400 (Tue, 16 Apr 2024) EndedAt: 2024-04-16 07:12:43 -0400 (Tue, 16 Apr 2024) EllapsedTime: 5.7 seconds RetCode: 0 Status: OK PackageFile: lionessR_1.16.0.zip PackageFileSize: 3.357 MiB