Package: lfa Version: 2.2.0 Command: /Library/Frameworks/R.framework/Resources/bin/R CMD INSTALL lfa StartedAt: 2024-04-15 15:05:47 -0400 (Mon, 15 Apr 2024) EndedAt: 2024-04-15 15:06:37 -0400 (Mon, 15 Apr 2024) EllapsedTime: 49.8 seconds RetCode: 0 Status: OK