Package: lfa Version: 2.2.0 Command: rm -rf lfa.buildbin-libdir && mkdir lfa.buildbin-libdir && /Users/biocbuild/BBS/utils/build-universal.sh lfa_2.2.0.tar.gz /Library/Frameworks/R.framework/Resources/bin/R lfa.buildbin-libdir StartedAt: 2024-04-16 12:04:50 -0400 (Tue, 16 Apr 2024) EndedAt: 2024-04-16 12:05:00 -0400 (Tue, 16 Apr 2024) EllapsedTime: 10.5 seconds RetCode: 0 Status: OK PackageFile: lfa_2.2.0.tgz PackageFileSize: 503.2 KiB