Package: lfa Version: 2.2.0 Command: /home/biocbuild/R/R-4.3.1/bin/R CMD build --keep-empty-dirs --no-resave-data lfa StartedAt: 2023-11-02 02:39:53 -0000 (Thu, 02 Nov 2023) EndedAt: 2023-11-02 02:40:03 -0000 (Thu, 02 Nov 2023) EllapsedTime: 10.0 seconds RetCode: 0 Status: OK PackageFile: lfa_2.2.0.tar.gz PackageFileSize: 336.9 KiB