Package: levi Version: 1.20.0 Command: /Library/Frameworks/R.framework/Resources/bin/R CMD build --keep-empty-dirs --no-resave-data levi StartedAt: 2024-04-15 19:39:36 -0400 (Mon, 15 Apr 2024) EndedAt: 2024-04-15 19:42:05 -0400 (Mon, 15 Apr 2024) EllapsedTime: 148.4 seconds RetCode: 0 Status: OK PackageFile: levi_1.20.0.tar.gz PackageFileSize: 2.781 MiB