Package: levi Version: 1.20.0 Command: /home/biocbuild/R/R-4.3.1/bin/R CMD build --keep-empty-dirs --no-resave-data levi StartedAt: 2023-11-02 02:39:17 -0000 (Thu, 02 Nov 2023) EndedAt: 2023-11-02 02:41:37 -0000 (Thu, 02 Nov 2023) EllapsedTime: 140.2 seconds RetCode: 0 Status: OK PackageFile: levi_1.20.0.tar.gz PackageFileSize: 2.783 MiB