Package: les Version: 1.52.0 Command: /Library/Frameworks/R.framework/Resources/bin/R CMD INSTALL les StartedAt: 2024-04-15 15:06:54 -0400 (Mon, 15 Apr 2024) EndedAt: 2024-04-15 15:07:10 -0400 (Mon, 15 Apr 2024) EllapsedTime: 16.6 seconds RetCode: 0 Status: OK