Package: les Version: 1.52.0 Command: /Library/Frameworks/R.framework/Resources/bin/R CMD check --install=check:les.install-out.txt --library=/Library/Frameworks/R.framework/Resources/library --no-vignettes --timings les_1.52.0.tar.gz StartedAt: 2024-04-16 04:37:10 -0400 (Tue, 16 Apr 2024) EndedAt: 2024-04-16 04:39:00 -0400 (Tue, 16 Apr 2024) EllapsedTime: 110.5 seconds RetCode: 0 Status: OK CheckDir: les.Rcheck Warnings: 0