Package: les Version: 1.52.0 Command: /Library/Frameworks/R.framework/Resources/bin/R CMD build --keep-empty-dirs --no-resave-data les StartedAt: 2024-03-03 17:11:58 -0500 (Sun, 03 Mar 2024) EndedAt: 2024-03-03 17:12:24 -0500 (Sun, 03 Mar 2024) EllapsedTime: 26.0 seconds RetCode: 0 Status: OK PackageFile: les_1.52.0.tar.gz PackageFileSize: 448.8 KiB