Package: lemur Version: 1.0.5 Command: rm -rf lemur.buildbin-libdir && mkdir lemur.buildbin-libdir && F:\biocbuild\bbs-3.18-bioc\R\bin\R.exe CMD INSTALL --build --library=lemur.buildbin-libdir lemur_1.0.5.tar.gz StartedAt: 2024-04-16 07:12:21 -0400 (Tue, 16 Apr 2024) EndedAt: 2024-04-16 07:13:33 -0400 (Tue, 16 Apr 2024) EllapsedTime: 72.8 seconds RetCode: 0 Status: OK PackageFile: lemur_1.0.5.zip PackageFileSize: 3.963 MiB