Package: lapmix Version: 1.68.0 Command: rm -rf lapmix.buildbin-libdir && mkdir lapmix.buildbin-libdir && /Users/biocbuild/BBS/utils/build-universal.sh lapmix_1.68.0.tar.gz /Library/Frameworks/R.framework/Resources/bin/R lapmix.buildbin-libdir StartedAt: 2024-03-04 00:47:48 -0500 (Mon, 04 Mar 2024) EndedAt: 2024-03-04 00:47:54 -0500 (Mon, 04 Mar 2024) EllapsedTime: 5.8 seconds RetCode: 0 Status: OK PackageFile: lapmix_1.68.0.tgz PackageFileSize: 376.8 KiB