Package: kissDE Version: 1.22.0 Command: F:\biocbuild\bbs-3.18-bioc\R\bin\R.exe CMD INSTALL kissDE StartedAt: 2024-04-15 16:42:16 -0400 (Mon, 15 Apr 2024) EndedAt: 2024-04-15 16:43:11 -0400 (Mon, 15 Apr 2024) EllapsedTime: 54.8 seconds RetCode: 0 Status: OK