Package: kissDE Version: 1.22.0 Command: chmod a+r kissDE -R && F:\biocbuild\bbs-3.18-bioc\R\bin\R.exe CMD build --keep-empty-dirs --no-resave-data kissDE StartedAt: 2024-04-15 19:15:02 -0400 (Mon, 15 Apr 2024) EndedAt: 2024-04-15 19:17:18 -0400 (Mon, 15 Apr 2024) EllapsedTime: 136.7 seconds RetCode: 0 Status: OK PackageFile: kissDE_1.22.0.tar.gz PackageFileSize: 860.2 KiB