Package: kissDE Version: 1.22.0 Command: /home/biocbuild/bbs-3.18-bioc/R/bin/R CMD build --keep-empty-dirs --no-resave-data kissDE StartedAt: 2024-04-15 17:42:11 -0400 (Mon, 15 Apr 2024) EndedAt: 2024-04-15 17:44:01 -0400 (Mon, 15 Apr 2024) EllapsedTime: 110.1 seconds RetCode: 0 Status: OK PackageFile: kissDE_1.22.0.tar.gz PackageFileSize: 854.5 KiB