Package: kissDE Version: 1.22.0 Command: /Library/Frameworks/R.framework/Resources/bin/R CMD build --keep-empty-dirs --no-resave-data kissDE StartedAt: 2024-04-15 19:38:19 -0400 (Mon, 15 Apr 2024) EndedAt: 2024-04-15 19:42:37 -0400 (Mon, 15 Apr 2024) EllapsedTime: 257.4 seconds RetCode: 0 Status: OK PackageFile: kissDE_1.22.0.tar.gz PackageFileSize: 854.4 KiB