Package: kissDE Version: 1.22.0 Command: rm -rf kissDE.buildbin-libdir && mkdir kissDE.buildbin-libdir && /Users/biocbuild/BBS/utils/build-universal.sh kissDE_1.22.0.tar.gz /Library/Frameworks/R.framework/Resources/bin/R kissDE.buildbin-libdir StartedAt: 2024-03-04 00:47:47 -0500 (Mon, 04 Mar 2024) EndedAt: 2024-03-04 00:48:48 -0500 (Mon, 04 Mar 2024) EllapsedTime: 61.8 seconds RetCode: 0 Status: OK PackageFile: kissDE_1.22.0.tgz PackageFileSize: 773.9 KiB