Package: katdetectr Version: 1.4.0 Command: chmod a+r katdetectr -R && F:\biocbuild\bbs-3.18-bioc\R\bin\R.exe CMD build --keep-empty-dirs --no-resave-data katdetectr StartedAt: 2024-04-15 19:14:07 -0400 (Mon, 15 Apr 2024) EndedAt: 2024-04-15 19:15:54 -0400 (Mon, 15 Apr 2024) EllapsedTime: 107.1 seconds RetCode: 0 Status: OK PackageFile: katdetectr_1.4.0.tar.gz PackageFileSize: 602.5 KiB