Package: katdetectr Version: 1.4.0 Command: /Library/Frameworks/R.framework/Resources/bin/R CMD check --install=check:katdetectr.install-out.txt --library=/Library/Frameworks/R.framework/Resources/library --no-vignettes --timings katdetectr_1.4.0.tar.gz StartedAt: 2024-04-16 04:30:24 -0400 (Tue, 16 Apr 2024) EndedAt: 2024-04-16 04:41:58 -0400 (Tue, 16 Apr 2024) EllapsedTime: 694.0 seconds RetCode: 0 Status: OK CheckDir: katdetectr.Rcheck Warnings: 0