Package: katdetectr Version: 1.4.0 Command: /Library/Frameworks/R.framework/Resources/bin/R CMD build --keep-empty-dirs --no-resave-data katdetectr StartedAt: 2024-04-15 19:37:04 -0400 (Mon, 15 Apr 2024) EndedAt: 2024-04-15 19:40:28 -0400 (Mon, 15 Apr 2024) EllapsedTime: 204.0 seconds RetCode: 0 Status: OK PackageFile: katdetectr_1.4.0.tar.gz PackageFileSize: 1.424 MiB