Package: katdetectr Version: 1.4.0 Command: rm -rf katdetectr.buildbin-libdir && mkdir katdetectr.buildbin-libdir && /Users/biocbuild/BBS/utils/build-universal.sh katdetectr_1.4.0.tar.gz /Library/Frameworks/R.framework/Resources/bin/R katdetectr.buildbin-libdir StartedAt: 2024-03-04 00:47:32 -0500 (Mon, 04 Mar 2024) EndedAt: 2024-03-04 00:48:35 -0500 (Mon, 04 Mar 2024) EllapsedTime: 62.9 seconds RetCode: 0 Status: OK PackageFile: katdetectr_1.4.0.tgz PackageFileSize: 1.63 MiB