Package: karyoploteR Version: 1.28.0 Command: /home/biocbuild/R/R-4.3.1/bin/R CMD INSTALL karyoploteR StartedAt: 2023-11-01 20:36:28 -0000 (Wed, 01 Nov 2023) EndedAt: 2023-11-01 20:37:43 -0000 (Wed, 01 Nov 2023) EllapsedTime: 74.6 seconds RetCode: 0 Status: OK