Package: iterativeBMAsurv Version: 1.60.0 Command: /Library/Frameworks/R.framework/Resources/bin/R CMD build --keep-empty-dirs --no-resave-data iterativeBMAsurv StartedAt: 2024-03-03 17:10:14 -0500 (Sun, 03 Mar 2024) EndedAt: 2024-03-03 17:10:42 -0500 (Sun, 03 Mar 2024) EllapsedTime: 28.2 seconds RetCode: 0 Status: OK PackageFile: iterativeBMAsurv_1.60.0.tar.gz PackageFileSize: 197.7 KiB