Package: iterativeBMAsurv Version: 1.60.0 Command: /home/biocbuild/R/R-4.3.1/bin/R CMD build --keep-empty-dirs --no-resave-data iterativeBMAsurv StartedAt: 2023-11-02 02:32:06 -0000 (Thu, 02 Nov 2023) EndedAt: 2023-11-02 02:32:27 -0000 (Thu, 02 Nov 2023) EllapsedTime: 21.0 seconds RetCode: 0 Status: OK PackageFile: iterativeBMAsurv_1.60.0.tar.gz PackageFileSize: 192 KiB