Package: iterativeBMA Version: 1.60.0 Command: F:\biocbuild\bbs-3.18-bioc\R\bin\R.exe CMD INSTALL iterativeBMA StartedAt: 2024-04-15 16:21:31 -0400 (Mon, 15 Apr 2024) EndedAt: 2024-04-15 16:21:43 -0400 (Mon, 15 Apr 2024) EllapsedTime: 11.7 seconds RetCode: 0 Status: OK