Package: iterativeBMA Version: 1.60.0 Command: chmod a+r iterativeBMA -R && F:\biocbuild\bbs-3.18-bioc\R\bin\R.exe CMD build --keep-empty-dirs --no-resave-data iterativeBMA StartedAt: 2024-04-15 19:13:13 -0400 (Mon, 15 Apr 2024) EndedAt: 2024-04-15 19:13:37 -0400 (Mon, 15 Apr 2024) EllapsedTime: 24.0 seconds RetCode: 0 Status: OK PackageFile: iterativeBMA_1.60.0.tar.gz PackageFileSize: 159.8 KiB