Package: iterClust Version: 1.24.0 Command: chmod a+r iterClust -R && F:\biocbuild\bbs-3.18-bioc\R\bin\R.exe CMD build --keep-empty-dirs --no-resave-data iterClust StartedAt: 2024-04-15 19:13:27 -0400 (Mon, 15 Apr 2024) EndedAt: 2024-04-15 19:14:05 -0400 (Mon, 15 Apr 2024) EllapsedTime: 38.5 seconds RetCode: 0 Status: OK PackageFile: iterClust_1.24.0.tar.gz PackageFileSize: 116 KiB