Package: iterClust Version: 1.24.0 Command: /home/biocbuild/bbs-3.18-bioc/R/bin/R CMD check --install=check:iterClust.install-out.txt --library=/home/biocbuild/bbs-3.18-bioc/R/site-library --timings iterClust_1.24.0.tar.gz StartedAt: 2024-04-16 00:11:48 -0400 (Tue, 16 Apr 2024) EndedAt: 2024-04-16 00:12:39 -0400 (Tue, 16 Apr 2024) EllapsedTime: 50.7 seconds RetCode: 0 Status: WARNINGS CheckDir: iterClust.Rcheck Warnings: 1