Package: iterClust Version: 1.24.0 Command: /home/biocbuild/R/R-4.3.1/bin/R CMD check --install=check:iterClust.install-out.txt --library=/home/biocbuild/R/R-4.3.1/site-library --no-vignettes --timings iterClust_1.24.0.tar.gz StartedAt: 2023-11-02 11:35:59 -0000 (Thu, 02 Nov 2023) EndedAt: 2023-11-02 11:37:24 -0000 (Thu, 02 Nov 2023) EllapsedTime: 84.2 seconds RetCode: 0 Status: OK CheckDir: iterClust.Rcheck Warnings: 0