Package: isomiRs Version: 1.30.0 Command: rm -rf isomiRs.buildbin-libdir && mkdir isomiRs.buildbin-libdir && /Users/biocbuild/BBS/utils/build-universal.sh isomiRs_1.30.0.tar.gz /Library/Frameworks/R.framework/Resources/bin/R isomiRs.buildbin-libdir StartedAt: 2024-04-16 12:03:07 -0400 (Tue, 16 Apr 2024) EndedAt: 2024-04-16 12:05:23 -0400 (Tue, 16 Apr 2024) EllapsedTime: 136.0 seconds RetCode: 0 Status: OK PackageFile: isomiRs_1.30.0.tgz PackageFileSize: 2.508 MiB