Package: isobar Version: 1.48.0 Command: rm -rf isobar.buildbin-libdir && mkdir isobar.buildbin-libdir && F:\biocbuild\bbs-3.18-bioc\R\bin\R.exe CMD INSTALL --build --library=isobar.buildbin-libdir isobar_1.48.0.tar.gz StartedAt: 2024-04-16 07:11:16 -0400 (Tue, 16 Apr 2024) EndedAt: 2024-04-16 07:12:07 -0400 (Tue, 16 Apr 2024) EllapsedTime: 51.3 seconds RetCode: 0 Status: OK PackageFile: isobar_1.48.0.zip PackageFileSize: 3.754 MiB