Package: isobar Version: 1.48.0 Command: /home/biocbuild/bbs-3.18-bioc/R/bin/R CMD build --keep-empty-dirs --no-resave-data isobar StartedAt: 2024-04-15 17:39:53 -0400 (Mon, 15 Apr 2024) EndedAt: 2024-04-15 17:41:03 -0400 (Mon, 15 Apr 2024) EllapsedTime: 69.7 seconds RetCode: 0 Status: OK PackageFile: isobar_1.48.0.tar.gz PackageFileSize: 2.675 MiB