Package: isobar Version: 1.48.0 Command: /Library/Frameworks/R.framework/Resources/bin/R CMD build --keep-empty-dirs --no-resave-data isobar StartedAt: 2024-04-15 19:35:05 -0400 (Mon, 15 Apr 2024) EndedAt: 2024-04-15 19:38:11 -0400 (Mon, 15 Apr 2024) EllapsedTime: 185.9 seconds RetCode: 0 Status: OK PackageFile: isobar_1.48.0.tar.gz PackageFileSize: 2.77 MiB