Package: isobar Version: 1.48.0 Command: rm -rf isobar.buildbin-libdir && mkdir isobar.buildbin-libdir && /Users/biocbuild/BBS/utils/build-universal.sh isobar_1.48.0.tar.gz /Library/Frameworks/R.framework/Resources/bin/R isobar.buildbin-libdir StartedAt: 2024-04-16 12:02:49 -0400 (Tue, 16 Apr 2024) EndedAt: 2024-04-16 12:04:28 -0400 (Tue, 16 Apr 2024) EllapsedTime: 98.5 seconds RetCode: 0 Status: OK PackageFile: isobar_1.48.0.tgz PackageFileSize: 3.907 MiB