Package: isobar Version: 1.48.0 Command: /Library/Frameworks/R.framework/Resources/bin/R CMD INSTALL isobar StartedAt: 2024-03-03 15:30:44 -0500 (Sun, 03 Mar 2024) EndedAt: 2024-03-03 15:31:27 -0500 (Sun, 03 Mar 2024) EllapsedTime: 43.4 seconds RetCode: 0 Status: OK