Package: isobar Version: 1.48.0 Command: /Library/Frameworks/R.framework/Resources/bin/R CMD build --keep-empty-dirs --no-resave-data isobar StartedAt: 2024-03-03 17:09:39 -0500 (Sun, 03 Mar 2024) EndedAt: 2024-03-03 17:11:24 -0500 (Sun, 03 Mar 2024) EllapsedTime: 105.2 seconds RetCode: 0 Status: OK PackageFile: isobar_1.48.0.tar.gz PackageFileSize: 2.802 MiB