Package: isobar Version: 1.48.0 Command: /home/biocbuild/R/R-4.3.1/bin/R CMD INSTALL isobar StartedAt: 2023-11-01 20:42:34 -0000 (Wed, 01 Nov 2023) EndedAt: 2023-11-01 20:43:17 -0000 (Wed, 01 Nov 2023) EllapsedTime: 43.0 seconds RetCode: 0 Status: OK